BEGIN:VCALENDAR
VERSION:2.0
PRODID:-//Hackettstown Public Library - ECPv6.15.20//NONSGML v1.0//EN
CALSCALE:GREGORIAN
METHOD:PUBLISH
X-WR-CALNAME:Hackettstown Public Library
X-ORIGINAL-URL:https://hackettstownlibrary.org
X-WR-CALDESC:Events for Hackettstown Public Library
REFRESH-INTERVAL;VALUE=DURATION:PT1H
X-Robots-Tag:noindex
X-PUBLISHED-TTL:PT1H
BEGIN:VTIMEZONE
TZID:America/New_York
BEGIN:DAYLIGHT
TZOFFSETFROM:-0500
TZOFFSETTO:-0400
TZNAME:EDT
DTSTART:20250309T070000
END:DAYLIGHT
BEGIN:STANDARD
TZOFFSETFROM:-0400
TZOFFSETTO:-0500
TZNAME:EST
DTSTART:20251102T060000
END:STANDARD
BEGIN:DAYLIGHT
TZOFFSETFROM:-0500
TZOFFSETTO:-0400
TZNAME:EDT
DTSTART:20260308T070000
END:DAYLIGHT
BEGIN:STANDARD
TZOFFSETFROM:-0400
TZOFFSETTO:-0500
TZNAME:EST
DTSTART:20261101T060000
END:STANDARD
BEGIN:DAYLIGHT
TZOFFSETFROM:-0500
TZOFFSETTO:-0400
TZNAME:EDT
DTSTART:20270314T070000
END:DAYLIGHT
BEGIN:STANDARD
TZOFFSETFROM:-0400
TZOFFSETTO:-0500
TZNAME:EST
DTSTART:20271107T060000
END:STANDARD
END:VTIMEZONE
BEGIN:VEVENT
DTSTART;TZID=America/New_York:20260430T180000
DTEND;TZID=America/New_York:20260430T193000
DTSTAMP:20260423T030741
CREATED:20260406T221405Z
LAST-MODIFIED:20260420T184420Z
UID:10007223-1777572000-1777577400@hackettstownlibrary.org
SUMMARY:Reading Party
DESCRIPTION:An hour of reading\, in the company of others. \nBring whatever you’re currently reading — book\, Kindle\, article\, anything.\nWe’ll settle in and read together. \nAfterwards\, you’re welcome to stay and talk\, meet people\, or head out. \nSet time aside to focus in an atmosphere that makes it easier and more enjoyable to read. \nFree and open to the public. Registration encouraged. \n\n\nThis event is taking place at Hackettstown Free Public Library\, 110 Church St.
URL:https://hackettstownlibrary.org/event/silent-reading-party-pop-up-3/
LOCATION:Hackettstown Public Library\, 110 Church Street\, Hackettstown\, NJ\, 07840\, United States
CATEGORIES:Clubs,FotL
ATTACH;FMTTYPE=image/png:https://hackettstownlibrary.org/wp-content/uploads/Reading-party-square-for-Library-website.png
ORGANIZER;CN="Hackettstown Public Library":MAILTO:info@hackettstownlibrary.org
END:VEVENT
BEGIN:VEVENT
DTSTART;TZID=America/New_York:20260502T130000
DTEND;TZID=America/New_York:20260502T150000
DTSTAMP:20260423T030742
CREATED:20260420T184617Z
LAST-MODIFIED:20260420T184617Z
UID:10007350-1777726800-1777734000@hackettstownlibrary.org
SUMMARY:Reading Party
DESCRIPTION:An hour of reading\, in the company of others. \nBring whatever you’re currently reading — book\, Kindle\, article\, anything.\nWe’ll settle in and read together. \nAfterwards\, you’re welcome to stay and talk\, meet people\, or head out. \nSet time aside to focus in an atmosphere that makes it easier and more enjoyable to read. \nFree and open to the public. Registration encouraged. \n\n\nThis event is taking place at Mazur Cafe and Chocolate Lab\, 106 E. Moore St.
URL:https://hackettstownlibrary.org/event/reading-party/
LOCATION:Mazur Chocolate Lab\, 106 East Moore St.\, Hackettstown\, 07840\, United States
CATEGORIES:Clubs,FotL
ATTACH;FMTTYPE=image/png:https://hackettstownlibrary.org/wp-content/uploads/Reading-party-square-for-Library-website.png
ORGANIZER;CN="Hackettstown Public Library":MAILTO:info@hackettstownlibrary.org
END:VEVENT
BEGIN:VEVENT
DTSTART;TZID=America/New_York:20260517T140000
DTEND;TZID=America/New_York:20260517T160000
DTSTAMP:20260423T030742
CREATED:20260420T184824Z
LAST-MODIFIED:20260420T184824Z
UID:10006705-1779026400-1779033600@hackettstownlibrary.org
SUMMARY:Reading Party
DESCRIPTION:An hour of reading\, in the company of others. \nBring whatever you’re currently reading — book\, Kindle\, article\, anything.\nWe’ll settle in and read together. \nAfterwards\, you’re welcome to stay and talk\, meet people\, or head out. \nSet time aside to focus in an atmosphere that makes it easier and more enjoyable to read. \nFree and open to the public. Registration encouraged. \n\n\nThis event is taking place at Man Skirt Brewing\, 144 Main St.
URL:https://hackettstownlibrary.org/event/silent-reading-party-with-the-friends-of-the-hackettstown-library-2/
LOCATION:Man Skirt Brewing\, 144 Main St.\, Hackettstown\, 07840\, United States
CATEGORIES:Clubs,FotL
ATTACH;FMTTYPE=image/png:https://hackettstownlibrary.org/wp-content/uploads/Reading-party-square-for-Library-website.png
ORGANIZER;CN="Hackettstown Public Library":MAILTO:info@hackettstownlibrary.org
END:VEVENT
BEGIN:VEVENT
DTSTART;TZID=America/New_York:20260528T180000
DTEND;TZID=America/New_York:20260528T193000
DTSTAMP:20260423T030742
CREATED:20260420T191742Z
LAST-MODIFIED:20260420T191742Z
UID:10007351-1779991200-1779996600@hackettstownlibrary.org
SUMMARY:Reading Party
DESCRIPTION:An hour of reading\, in the company of others. \nBring whatever you’re currently reading — book\, Kindle\, article\, anything.\nWe’ll settle in and read together. \nAfterwards\, you’re welcome to stay and talk\, meet people\, or head out. \nSet time aside to focus in an atmosphere that makes it easier and more enjoyable to read. \nFree and open to the public. Registration encouraged. \n\n\nThis event is taking place at Hackettstown Free Public Library\, 110 Church St.
URL:https://hackettstownlibrary.org/event/reading-party-2/
LOCATION:Hackettstown Public Library\, 110 Church Street\, Hackettstown\, NJ\, 07840\, United States
CATEGORIES:Clubs,FotL
ATTACH;FMTTYPE=image/png:https://hackettstownlibrary.org/wp-content/uploads/Reading-party-square-for-Library-website.png
ORGANIZER;CN="Hackettstown Public Library":MAILTO:info@hackettstownlibrary.org
END:VEVENT
END:VCALENDAR